BEGIN:VCALENDAR
VERSION:2.0
PRODID:-//ChamberMaster//Event Calendar 2.0//EN
METHOD:PUBLISH
X-PUBLISHED-TTL:P3D
REFRESH-INTERVAL:P3D
CALSCALE:GREGORIAN
BEGIN:VEVENT
DTSTART:20260925T123000Z
DTEND:20260925T160000Z
X-MICROSOFT-CDO-ALLDAYEVENT:FALSE
SUMMARY:Taking Care of Business
DESCRIPTION:Taking Care of Business is a hands-on workshop series designed for business owners who have been operating 1 5 years and are ready to strengthen their foundation and grow with confidence.\n\n\n\nThese half-day\, in-person workshops are built for action\, not lectures. Each session gives participants real tools\, guided work time\, and practical takeaways they can immediately implement into their businesses. The series is intentionally progressive\, with every workshop building on the one before it so attendees gain clarity\, structure\, and momentum throughout the year.\n\n\n\nSpace is limited to 20 participants to keep the experience interactive\, focused\, and personalized.\n\n\n\nMarketing 102\n\n\n\nSession 4 is where everything comes together. After learning the foundations of branding and marketing strategy in Session 3\, this workshop focuses on execution\, how to actually create\, organize\, and maintain consistent marketing for your business.\n\n\n\nYou'll learn practical tools for planning and scheduling content\, using platforms like Canva and CapCut\, and staying on top of current trends without feeling overwhelmed. The session includes hands-on work time to help you build a real content calendar and create posts you can use right away.\n\n\n\nThis final workshop is designed to leave you with a repeatable system so marketing feels manageable instead of stressful.\n\n\n\nWhat you'll walk away with:\n\n	A 30-day content plan\n	Experience creating graphics and short-form video\n	Knowledge of scheduling tools\n	A simple system for consistent marketing\n	Confidence executing your marketing strategy\n\n\n\nHow the Series Fits Together\n\nSession 1 gave you the business foundation to operate confidently.\n\nSession 2 helped you use AI to work more efficiently.\n\nSession 3 clarified your brand and audience.\n\nSession 4 turns that strategy into real\, ongoing action.
X-ALT-DESC;FMTTYPE=text/html:<strong>Taking Care of Business is a hands-on workshop series designed for business owners who have been operating 1&ndash\;5 years and are ready to strengthen their foundation and grow with confidence.</strong><br />\n<br />\nThese half-day\, in-person workshops are built for action\, not lectures. Each session gives participants real tools\, guided work time\, and practical takeaways they can immediately implement into their businesses. The series is intentionally progressive\, with every workshop building on the one before it so attendees gain clarity\, structure\, and momentum throughout the year.<br />\n<br />\nSpace is limited to 20 participants to keep the experience interactive\, focused\, and personalized.<br />\n<br />\n<strong>Marketing 102</strong><br />\n<br />\n<strong>Session 4</strong> is where everything comes together. After learning the foundations of branding and marketing strategy in Session 3\, this workshop focuses on execution\, how to actually create\, organize\, and maintain consistent marketing for your business.<br />\n<br />\nYou&rsquo\;ll learn practical tools for planning and scheduling content\, using platforms like Canva and CapCut\, and staying on top of current trends without feeling overwhelmed. The session includes hands-on work time to help you build a real content calendar and create posts you can use right away.<br />\n<br />\nThis final workshop is designed to leave you with a repeatable system so marketing feels manageable instead of stressful.<br />\n<br />\n<strong>What you&rsquo\;ll walk away with:</strong>\n<ul>\n	<li>A 30-day content plan</li>\n	<li>Experience creating graphics and short-form video</li>\n	<li>Knowledge of scheduling tools</li>\n	<li>A simple system for consistent marketing</li>\n	<li>Confidence executing your marketing strategy</li>\n</ul>\n<br />\n<strong>How the Series Fits Together</strong><br />\nSession 1 gave you the business foundation to operate confidently.<br />\nSession 2 helped you use AI to work more efficiently.<br />\nSession 3 clarified your brand and audience.<br />\nSession 4 turns that strategy into real\, ongoing action.
LOCATION:Columbus Area Chamber of Commerce 250 Franklin Street Columbus\, IN 47201
UID:e.1795.6031
SEQUENCE:3
DTSTAMP:20260424T222807Z
URL:https://columbusarea-gzcms.preview.gochambermaster.com/events/details/taking-care-of-business-6031
END:VEVENT

END:VCALENDAR
