BEGIN:VCALENDAR
VERSION:2.0
PRODID:-//ChamberMaster//Event Calendar 2.0//EN
METHOD:PUBLISH
X-PUBLISHED-TTL:P3D
REFRESH-INTERVAL:P3D
CALSCALE:GREGORIAN
BEGIN:VEVENT
DTSTART:20240917T153000Z
DTEND:20240917T170000Z
X-MICROSOFT-CDO-ALLDAYEVENT:FALSE
SUMMARY:September Ambassador Meeting
DESCRIPTION:Join us for our monthly Ambassador meeting at the Donner Park Shelter House.  Covered Bridge BBQ will be our caterer for this event.  \n\n\n\nOur Ambassador meetings include:\n\n	Chamber updates\n	Preview of upcoming Chamber programs and events\n	Introduction of new members\n	Opportunity for Ambassadors to share news and updates about their business
X-ALT-DESC;FMTTYPE=text/html:Join us for our monthly Ambassador meeting at the Donner Park Shelter House.&nbsp\; <a href="https://www.coveredbridgebbq.com/">Covered Bridge BBQ</a> will be our caterer for this event.&nbsp\;&nbsp\;<br />\n<br />\nOur Ambassador meetings include:\n<ul>\n	<li>Chamber updates</li>\n	<li>Preview of upcoming Chamber programs and events</li>\n	<li>Introduction of new members</li>\n	<li>Opportunity for Ambassadors to share news and updates about their business</li>\n</ul>\n
LOCATION:Donner Park Shelter House Columbus\, In
UID:e.1795.5492
SEQUENCE:3
DTSTAMP:20260426T032350Z
URL:https://columbusarea-gzcms.preview.gochambermaster.com/events/details/september-ambassador-meeting-5492
END:VEVENT

END:VCALENDAR
