BEGIN:VCALENDAR
VERSION:2.0
PRODID:-//ChamberMaster//Event Calendar 2.0//EN
METHOD:PUBLISH
X-PUBLISHED-TTL:P3D
REFRESH-INTERVAL:P3D
CALSCALE:GREGORIAN
BEGIN:VEVENT
DTSTART:20240923T203000Z
DTEND:20240923T210000Z
X-MICROSOFT-CDO-ALLDAYEVENT:FALSE
SUMMARY:Ribbon Cutting at Mother Bears Pizza
DESCRIPTION:Mother Bears is here!  Join us on September 23rd for a ribbon cutting ceremony. \n\n\n\nMother Bear's Pizza is proud to bring our award-winning pizza to Columbus\, IN. Over our 50 plus year history we have won two national pizza awards at the International Pizza Expo and been featured in USA Today and People Magazine. Our dough is made on-site every day by our prep team guaranteeing the freshest pizza possible. Come join us at NexusPark to see what all the buzz is about.
X-ALT-DESC;FMTTYPE=text/html:Mother Bears is here!&nbsp\; Join us on September 23rd for a ribbon cutting ceremony.&nbsp\;<br />\n<br />\nMother Bear&#39\;s Pizza is proud to bring our award-winning pizza to Columbus\, IN. Over our 50 plus year history we have won two national pizza awards at the International Pizza Expo and been featured&nbsp\;in USA Today and People Magazine. Our dough&nbsp\;is made on-site every day by our prep team guaranteeing the freshest pizza possible. Come join us at NexusPark to see what all the buzz is about.
LOCATION:NexusPark 2306 25th Street Columbus\, In
UID:e.1795.5621
SEQUENCE:3
DTSTAMP:20260426T032425Z
URL:https://columbusarea-gzcms.preview.gochambermaster.com/events/details/ribbon-cutting-at-mother-bears-pizza-5621
END:VEVENT

END:VCALENDAR
