BEGIN:VCALENDAR
VERSION:2.0
PRODID:-//ChamberMaster//Event Calendar 2.0//EN
METHOD:PUBLISH
X-PUBLISHED-TTL:P3D
REFRESH-INTERVAL:P3D
CALSCALE:GREGORIAN
BEGIN:VEVENT
DTSTART:20240925T203000Z
DTEND:20240925T210000Z
X-MICROSOFT-CDO-ALLDAYEVENT:FALSE
SUMMARY:Ribbon Cutting at Express Employment
DESCRIPTION:Join us for a ribbon-cutting ceremony at Express Employment Professionals Columbus.  \n\n\n\nExpress Employment Professionals Columbus and the Specialized Recruiting Group - South Central Indiana is thrilled to announce its Bartholomew County office's upcoming expansion and relocation in September 2024. The new office will be located at 1405 Washington St.\, Columbus\, In. \n\n\n\nExpress Columbus works alongside Express Indy South in Greenwood and the Specialized Recruiting Group to service Columbus\, Edinburgh\, Seymour\, North Vernon\, Greensburg\, Shelbyville\, and the surrounding seven-county area with their full line of employment services.
X-ALT-DESC;FMTTYPE=text/html:<span style="font-size:14px\;"><span style="font-family:tahoma\;">Join us for a ribbon-cutting ceremony at Express Employment Professionals Columbus.&nbsp\;&nbsp\;<br />\n<br />\n<span style="color: rgb(85\, 85\, 85)\;">Express Employment Professionals Columbus and the Specialized Recruiting Group - South Central Indiana is thrilled to announce </span>its Bartholomew County office&#39\;s upcoming expansion and relocation&nbsp\;<span style="color: rgb(85\, 85\, 85)\;">in September 2024. The new office will be located at 1405 Washington St.\, Columbus\, In.&nbsp\;<br />\n<br />\nExpress Columbus works alongside Express Indy South in Greenwood and the Specialized Recruiting Group to service Columbus\, Edinburgh\, Seymour\, North Vernon\, Greensburg\, Shelbyville\, and the surrounding seven-county area with their full line of employment services.</span></span></span><br />\n&nbsp\;
LOCATION:1405 Washington Street Columbus\, In
UID:e.1795.5631
SEQUENCE:3
DTSTAMP:20260426T032417Z
URL:https://columbusarea-gzcms.preview.gochambermaster.com/events/details/ribbon-cutting-at-express-employment-5631
END:VEVENT

END:VCALENDAR
