BEGIN:VCALENDAR
VERSION:2.0
PRODID:-//ChamberMaster//Event Calendar 2.0//EN
METHOD:PUBLISH
X-PUBLISHED-TTL:P3D
REFRESH-INTERVAL:P3D
CALSCALE:GREGORIAN
BEGIN:VEVENT
DTSTART:20250220T213000Z
DTEND:20250220T220000Z
X-MICROSOFT-CDO-ALLDAYEVENT:FALSE
SUMMARY:Ribbon Cutting at Cornerstone Caregiving
DESCRIPTION:Join us to celebrate the opening of Cornerstone Caregiving in Columbus with a ribbon cutting.\n\n\n\nOpen House from 4 pm to 6pm\, with giveaways and refreshments.\n\n\n\nCornerstone Caregiving is a non skilled home care agency\, providing compassionate care to Seniors in our Community! We strive through hiring compassionate caregivers with multi-year experience to ensure clients receive premier care wherever they call home.
X-ALT-DESC;FMTTYPE=text/html:Join us to celebrate the opening of Cornerstone Caregiving in Columbus with a ribbon cutting.<br />\n<br />\nOpen House from 4 pm to 6pm\, with giveaways and refreshments.<br />\n<br />\n<em><span style="color: rgb(255\, 0\, 0)\; font-family: &quot\;Calibri Light&quot\;\, sans-serif\; font-size: 14.6667px\;">Cornerstone Caregiving is a non skilled home care agency\, providing compassionate&nbsp\;care to Seniors in our Community! We strive through hiring compassionate caregivers with multi-year experience to ensure clients receive premier care wherever they call home.</span></em>
LOCATION:718 3rd Street Columbus\, In 47201
UID:e.1795.5814
SEQUENCE:3
DTSTAMP:20260425T213011Z
URL:https://columbusarea-gzcms.preview.gochambermaster.com/events/details/ribbon-cutting-at-cornerstone-caregiving-5814
END:VEVENT

END:VCALENDAR
