BEGIN:VCALENDAR
VERSION:2.0
PRODID:-//ChamberMaster//Event Calendar 2.0//EN
METHOD:PUBLISH
X-PUBLISHED-TTL:P3D
REFRESH-INTERVAL:P3D
CALSCALE:GREGORIAN
BEGIN:VEVENT
DTSTART:20240905T170000Z
DTEND:20240905T180000Z
X-MICROSOFT-CDO-ALLDAYEVENT:FALSE
SUMMARY:Member 2 Member: HR Round Table
DESCRIPTION:Navigating HR Challenges? Join a new HR Roundtable moderated by HumanSoul!\n\n\n\nAre you an HR professional navigating a competitive employment market? Seeking fresh ideas to manage disruption? Look no further! Our HR Roundtable offers:\n\n\n\n  Peer Networking: Connect with fellow HR experts. Share insights\, challenges\, and best practices.\n\n  Curated Resources: Access summaries and curated HR materials\, even if you can't attend every session.\n\n\n\nRemember\, you're not alone let's build a strong HR network to support each other professionally. Join us at the HR Roundtable!
X-ALT-DESC;FMTTYPE=text/html:&#127775\; Navigating HR Challenges? Join a new HR Roundtable moderated by HumanSoul!<br />\n<br />\nAre you an HR professional navigating a competitive employment market? Seeking fresh ideas to manage disruption? Look no further! Our HR Roundtable offers:<br />\n<br />\n&#129309\; Peer Networking: Connect with fellow HR experts. Share insights\, challenges\, and best practices.<br />\n&#127760\; Curated Resources: Access summaries and curated HR materials\, even if you can&rsquo\;t attend every session.<br />\n<br />\nRemember\, you&rsquo\;re not alone&mdash\;let&rsquo\;s build a strong HR network to support each other professionally. Join us at the HR Roundtable! &#127775\;&#129309\;
LOCATION:Columbus Area Chamber of Commerce 250 Franklin St Columbus\, IN 47201
UID:e.1795.5607
SEQUENCE:3
DTSTAMP:20260426T031943Z
URL:https://columbusarea-gzcms.preview.gochambermaster.com/events/details/member-2-member-hr-round-table-5607
END:VEVENT

END:VCALENDAR
