BEGIN:VCALENDAR
VERSION:2.0
PRODID:-//ChamberMaster//Event Calendar 2.0//EN
METHOD:PUBLISH
X-PUBLISHED-TTL:P3D
REFRESH-INTERVAL:P3D
CALSCALE:GREGORIAN
BEGIN:VEVENT
DTSTART:20250711T123000Z
DTEND:20250711T140000Z
X-MICROSOFT-CDO-ALLDAYEVENT:FALSE
SUMMARY:July Speed Networking
DESCRIPTION:Speed Networking \n\nFriday\, July 11\, 2025\n\n8:30 AM\n\nHilton Garden Inn\, Edinburgh\, Indiana\n\nJump-start your day with high-energy connections at our Speed Networking event! Join fellow Chamber members for a fast-paced morning of introductions\, idea sharing\, and opportunity building. Whether you're looking to grow your customer base\, collaborate with like-minded professionals\, or simply broaden your network\, this is the perfect event to make it happen.\n\nEach interaction is timed to keep conversations moving and ensure you meet as many people as possible so bring plenty of business cards and get ready to make valuable new connections!
X-ALT-DESC;FMTTYPE=text/html:<p data-end="143" data-start="24"><strong data-end="54" data-start="24">Speed Networking&nbsp\;</strong><br data-end="57" data-start="54" />\n<em data-end="83" data-start="60">Friday\, July 11\, 2025</em><br data-end="86" data-start="83" />\n<em data-end="98" data-is-only-node="" data-start="89">8:30 AM</em><br />\n<em data-end="143" data-start="104">Hilton Garden Inn\, Edinburgh\, Indiana</em></p>\n\n<p data-end="511" data-start="145">Jump-start your day with high-energy connections at our <strong data-end="221" data-start="201">Speed Networking</strong> event! Join fellow Chamber members for a fast-paced morning of introductions\, idea sharing\, and opportunity building. Whether you&#39\;re looking to grow your customer base\, collaborate with like-minded professionals\, or simply broaden your network\, this is the perfect event to make it happen.</p>\n\n<p data-end="700" data-start="513">Each interaction is timed to keep conversations moving and ensure you meet as many people as possible&mdash\;so bring plenty of <strong data-end="652" data-start="634">business cards</strong> and get ready to make valuable new connections!</p>\n
LOCATION:Hilton Garden Inn 12210 N Executive Drive Edinburgh\, In
UID:e.1795.5703
SEQUENCE:3
DTSTAMP:20260425T132634Z
URL:https://columbusarea-gzcms.preview.gochambermaster.com/events/details/july-speed-networking-5703
END:VEVENT

END:VCALENDAR
