BEGIN:VCALENDAR
VERSION:2.0
PRODID:-//ChamberMaster//Event Calendar 2.0//EN
METHOD:PUBLISH
X-PUBLISHED-TTL:P3D
REFRESH-INTERVAL:P3D
CALSCALE:GREGORIAN
BEGIN:VEVENT
DTSTART:20250624T203000Z
DTEND:20250624T210000Z
X-MICROSOFT-CDO-ALLDAYEVENT:FALSE
SUMMARY:Ribbon Cutting at Sassafras Salon & Spa
DESCRIPTION:Sassafras Salon & Spa is an up-and-coming full-service salon that has been proudly serving the community since January 2025. While they are a new business\, their team is made up of experienced professionals ready to meet all your beauty and wellness needs\, including expert hair services\, esthetics\, massage therapy\, and aesthetic injections. Join them for a ribbon-cutting celebration with an open bar\, snacks\, and exclusive discounts on both services and products\, plus complimentary grab bags come meet the team and treat yourself!
X-ALT-DESC;FMTTYPE=text/html:<span style="color: rgb(34\, 34\, 34)\; font-family: Arial\, Helvetica\, sans-serif\; font-size: small\;">Sassafras Salon &amp\; Spa is an up-and-coming full-service salon that has been proudly serving the community since January 2025. While they are a new business\, their team is made up of experienced professionals ready to meet all your beauty and wellness needs\, including expert hair services\, esthetics\, massage therapy\, and aesthetic injections. Join them for a ribbon-cutting celebration with an open bar\, snacks\, and exclusive discounts on both services and products\, plus complimentary grab bags&mdash\;come meet the team and treat yourself!&nbsp\;</span>
LOCATION:4550 Jonathon Moore Pike Columbus\, IN
UID:e.1795.5861
SEQUENCE:3
DTSTAMP:20260425T141151Z
URL:https://columbusarea-gzcms.preview.gochambermaster.com/events/details/hold-rc-sassafras-salon-spa-5861
END:VEVENT

END:VCALENDAR
