BEGIN:VCALENDAR
VERSION:2.0
PRODID:-//ChamberMaster//Event Calendar 2.0//EN
METHOD:PUBLISH
X-PUBLISHED-TTL:P3D
REFRESH-INTERVAL:P3D
CALSCALE:GREGORIAN
BEGIN:VEVENT
DTSTART:20241022T163000Z
DTEND:20241022T180000Z
X-MICROSOFT-CDO-ALLDAYEVENT:FALSE
SUMMARY:CYP Volunteerism: Mill Race Center - Technology Help
DESCRIPTION:The CYP group is volunteering their time to assist participants at Mill Race Center with technology\, including cell phones\, laptops\, and iPads. While providing tech support\, CYP members are also fostering meaningful connections by encouraging the older\, wiser participants to share their life experiences and insights. This exchange allows young professionals to gain valuable perspectives on how they might approach their careers and lives differently.
X-ALT-DESC;FMTTYPE=text/html:The CYP group is volunteering their time to assist participants at Mill Race Center with technology\, including cell phones\, laptops\, and iPads. While providing tech support\, CYP members are also fostering meaningful connections by encouraging the older\, wiser participants to share their life experiences and insights. This exchange allows young professionals to gain valuable perspectives on how they might approach their careers and lives differently.
LOCATION:Mill Race Center 900 Lindsey St\, Columbus\, IN 47201
UID:e.1795.5635
SEQUENCE:3
DTSTAMP:20260426T032024Z
URL:https://columbusarea-gzcms.preview.gochambermaster.com/events/details/cyp-volunteerism-mill-race-center-technology-help-5635
END:VEVENT

END:VCALENDAR
