BEGIN:VCALENDAR
VERSION:2.0
PRODID:-//ChamberMaster//Event Calendar 2.0//EN
METHOD:PUBLISH
X-PUBLISHED-TTL:P3D
REFRESH-INTERVAL:P3D
CALSCALE:GREGORIAN
BEGIN:VEVENT
DTSTART:20241030T200000Z
DTEND:20241030T220000Z
X-MICROSOFT-CDO-ALLDAYEVENT:FALSE
SUMMARY:Columbus Area Chamber of Commerce & Greater Columbus Economic Development Corp. Ribbon Cutting Celebration
DESCRIPTION:Join us on October 30\, 2024\, at 4 p.m. as we celebrate the grand opening of our new location with an open house and ribbon cutting ceremony! The Columbus Area Chamber of Commerce and the Greater Columbus Economic Development Corporation have been on a long and exciting journey to reach this milestone\, and we are thrilled to share our new space with you. This event marks a significant chapter in our continued growth and commitment to serving the Columbus community. We can't wait to welcome you and showcase our new home!\n\n\n\nWe are grateful for our Chamber partners for their support of this event.  \n\n\n\nEllis Events \n\nGracie Mae Events \n\nSwine & Dine\n\nUpland Pump House\n\nAudio Magic\n\nMunchies Managed by Melanie\n\nRyan Furr Creative
X-ALT-DESC;FMTTYPE=text/html:Join us on October 30\, 2024\, at 4 p.m. as we celebrate the grand opening of our new location with an open house and ribbon cutting ceremony! The Columbus Area Chamber of Commerce and the Greater Columbus Economic Development Corporation have been on a long and exciting journey to reach this milestone\, and we are thrilled to share our new space with you. This event marks a significant chapter in our continued growth and commitment to serving the Columbus community. We can&#39\;t wait to welcome you and showcase our new home!<br />\n<br />\nWe are grateful for our Chamber partners for their support of this event.&nbsp\;&nbsp\;<br />\n<br />\n<a href="https://ellistentsandevents.com/">Ellis Events&nbsp\;</a><br />\n<a href="https://graciemaeevents.com/">Gracie Mae Events&nbsp\;</a><br />\n<a href="https://swineanddineevents.com/">Swine &amp\; Dine</a><br />\n<a href="https://uplandbeer.com/">Upland Pump House</a><br />\n<a href="https://audiomagicentertainment.com/">Audio Magic</a><br />\n<a href="https://www.munchiesmanagedbymelanie.com/">Munchies Managed by Melanie</a><br />\n<a href="https://ryanfurr.com/">Ryan Furr Creative</a>
LOCATION:230 & 250 Franklin Street Columbus\, In
UID:e.1795.5667
SEQUENCE:3
DTSTAMP:20260426T020820Z
URL:https://columbusarea-gzcms.preview.gochambermaster.com/events/details/columbus-area-chamber-of-commerce-greater-columbus-economic-development-corp-ribbon-cutting-celebration-5667
END:VEVENT

END:VCALENDAR
