BEGIN:VCALENDAR
VERSION:2.0
PRODID:-//ChamberMaster//Event Calendar 2.0//EN
METHOD:PUBLISH
X-PUBLISHED-TTL:P3D
REFRESH-INTERVAL:P3D
CALSCALE:GREGORIAN
BEGIN:VEVENT
DTSTART:20250416T210000Z
DTEND:20250416T230000Z
X-MICROSOFT-CDO-ALLDAYEVENT:FALSE
SUMMARY:Catalyst Cafe presents " Speak\, Pitch & Persuade"
DESCRIPTION:Join us on April 16\, 2025\, from 5:00 7:00 PM at Swine & Dine for Catalyst Cafe's "Speak\, Pitch & Persuade\," featuring Ant Blair and Deepti Vijaykumar\, and discover how to confidently pitch yourself\, your brand\, and your ideas while shaping a compelling personal story that resonates with any audience.\n\n\n\nDeepti Vijaykumar is a leadership and communication specialist with a passion for empowering teams and individuals to thrive in dynamic environments. Drawing on her background in facilitation\, cross-cultural communication\, and organizational development\, she helps professionals sharpen their storytelling\, negotiation\, and collaboration skills. Deepti's mission is to unlock potential by fostering empathy\, adaptability\, and inclusive growth in every workplace she touches.\n\n\n\nAnt Blair is a dynamic marketing strategist and brand builder passionate about connecting people\, ideas\, and communities. With a background in content creation\, event hosting\, and entrepreneurial ventures\, he leverages storytelling and creative campaigns to drive engagement and growth. Driven by curiosity and a commitment to lifelong learning\, Ant continues to innovate in digital marketing and community-focused initiatives.\n\n\n\nIf you have questions about this or any other Catalyst events please contact our Director of Entrepreneurship\, Dan Nash at Dan@columbusareachamber.com.
X-ALT-DESC;FMTTYPE=text/html:Join us on April 16\, 2025\, from 5:00&ndash\;7:00 PM at Swine &amp\; Dine for Catalyst Cafe&rsquo\;s &ldquo\;Speak\, Pitch &amp\; Persuade\,&rdquo\; featuring Ant Blair and Deepti Vijaykumar\, and discover how to confidently pitch yourself\, your brand\, and your ideas while shaping a compelling personal story that resonates with any audience.<br />\n<br />\nDeepti Vijaykumar is a leadership and communication specialist with a passion for empowering teams and individuals to thrive in dynamic environments. Drawing on her background in facilitation\, cross-cultural communication\, and organizational development\, she helps professionals sharpen their storytelling\, negotiation\, and collaboration skills. Deepti&rsquo\;s mission is to unlock potential by fostering empathy\, adaptability\, and inclusive growth in every workplace she touches.<br />\n<br />\nAnt Blair is a dynamic marketing strategist and brand builder passionate about connecting people\, ideas\, and communities. With a background in content creation\, event hosting\, and entrepreneurial ventures\, he leverages storytelling and creative campaigns to drive engagement and growth. Driven by curiosity and a commitment to lifelong learning\, Ant continues to innovate in digital marketing and community-focused initiatives.<br />\n<br />\nIf you have questions about this or any other Catalyst events please contact our Director of Entrepreneurship\, Dan Nash at&nbsp\;<a href="mailto:Dan@columbusareachamber.com" style="color: rgb(17\, 85\, 204)\;" target="_blank">Dan@columbusareachamber.com</a>.\n<div>&nbsp\;</div>\n
LOCATION:Swine & Dine 412 Washington Street Columbus\, In
UID:e.1795.5840
SEQUENCE:3
DTSTAMP:20260425T160148Z
URL:https://columbusarea-gzcms.preview.gochambermaster.com/events/details/catalyst-cafe-presents-speak-pitch-persuade-5840
END:VEVENT

END:VCALENDAR
