BEGIN:VCALENDAR
VERSION:2.0
PRODID:-//ChamberMaster//Event Calendar 2.0//EN
METHOD:PUBLISH
X-PUBLISHED-TTL:P3D
REFRESH-INTERVAL:P3D
CALSCALE:GREGORIAN
BEGIN:VEVENT
DTSTART:20260120T163000Z
DTEND:20260120T180000Z
X-MICROSOFT-CDO-ALLDAYEVENT:FALSE
SUMMARY:Ambassador Meeting at Foundation for Youth
DESCRIPTION:Join us for our first Ambassador meeting of 2026  your opportunity to connect\, learn\, and grow alongside fellow business leaders. Enjoy dedicated time for networking\, hear the latest Chamber news and updates\, welcome new members\, and share announcements or upcoming events from your own business.\n\nNetworking is one of the most powerful tools for business growth. By building relationships\, exchanging ideas\, and staying connected\, you open the door to new partnerships\, increased visibility\, and a stronger presence in our business community. We look forward to seeing you there!\n\n\n\nThis month's meal will be catered by Jersey Mike Sub's.   \n\n\n\nWe will be crowning our Q4 2025 Ambassador of the Month!
X-ALT-DESC;FMTTYPE=text/html:<p data-end="346" data-start="59">Join us for our first Ambassador meeting of 2026&nbsp\;&mdash\;your opportunity to connect\, learn\, and grow alongside fellow business leaders. Enjoy dedicated time for networking\, hear the latest Chamber news and updates\, welcome new members\, and share announcements or upcoming events from your own business.</p>\n\n<p data-end="630" data-is-last-node="" data-is-only-node="" data-start="348">Networking is one of the most powerful tools for business growth. By building relationships\, exchanging ideas\, and staying connected\, you open the door to new partnerships\, increased visibility\, and a stronger presence in our business community. We look forward to seeing you there!<br />\n<br />\nThis month&#39\;s meal will be catered by Jersey Mike Sub&#39\;s.&nbsp\; &nbsp\;<br />\n<br />\nWe will be crowning our Q4 2025 Ambassador of the Month!<br />\n<br />\n<br />\n&nbsp\;</p>\n
LOCATION:Foundation for Youth 405 Hope Ave Columbus In
UID:e.1795.6049
SEQUENCE:3
DTSTAMP:20260424T182854Z
URL:https://columbusarea-gzcms.preview.gochambermaster.com/events/details/ambassador-meeting-at-foundation-for-youth-6049
END:VEVENT

END:VCALENDAR
