BEGIN:VCALENDAR
VERSION:2.0
PRODID:-//ChamberMaster//Event Calendar 2.0//EN
METHOD:PUBLISH
X-PUBLISHED-TTL:P3D
REFRESH-INTERVAL:P3D
CALSCALE:GREGORIAN
BEGIN:VEVENT
DTSTART:20260421T153000Z
DTEND:20260421T170000Z
X-MICROSOFT-CDO-ALLDAYEVENT:FALSE
SUMMARY:Ambassador Meeting at Bespoke Events + Experiences
DESCRIPTION:Join us at Bespoke Events + Experiences for this month's Ambassador Meeting.  \nThis is your opportunity to connect\, learn\, and grow alongside fellow business leaders. Enjoy dedicated time for networking\, hear the latest Chamber news and updates\, welcome new members\, and share announcements or upcoming events from your own business.\n\nNetworking is one of the most powerful tools for business growth. By building relationships\, exchanging ideas\, and staying connected\, you open the door to new partnerships\, increased visibility\, and a stronger presence in our business community. We look forward to seeing you there!\n\n\n\nThis month's meal will be catered by Bespoke Events + Experiences.    \nThe menu will include the following:\n\n \nMain:\n\n- Chicken Salads\, 2-3 varieties | gluten-free\n\n- Plant-based Chickpea "Chicken" Salad | vegetarian + gluten-free\n\n- Hearty Multi-Bean Salad | vegan + gluten-free\n\n- Salad Greens\n\n- Mini Croissants \n\n \n\nDessert: \n\n- Churros w/ variety of dipping sauces | vegetarian\n\n- Fresh Fruit | vegan + gluten-free\n\n \n\nComplimentary Beverages:\n\n- House-brewed Tea\, Lemonade & Water
X-ALT-DESC;FMTTYPE=text/html:Join us at Bespoke Events + Experiences for this month&#39\;s Ambassador Meeting.&nbsp\;&nbsp\;\n<p data-end="346" data-start="59">This is your opportunity to connect\, learn\, and grow alongside fellow business leaders. Enjoy dedicated time for networking\, hear the latest Chamber news and updates\, welcome new members\, and share announcements or upcoming events from your own business.</p>\n\n<p data-end="630" data-is-last-node="" data-is-only-node="" data-start="348">Networking is one of the most powerful tools for business growth. By building relationships\, exchanging ideas\, and staying connected\, you open the door to new partnerships\, increased visibility\, and a stronger presence in our business community. We look forward to seeing you there!<br />\n<br />\nThis month&#39\;s meal will be catered by Bespoke Events + Experiences.&nbsp\;&nbsp\;&nbsp\;&nbsp\;</p>\nThe menu will include the following:<br />\n&nbsp\;\n<div class="gmail_default" style="font-size: small\; font-family: &quot\;trebuchet ms&quot\;\, sans-serif\; color: rgb(19\, 79\, 92)\;"><span style="color:#000000\;"><b>Main:</b></span></div>\n\n<div class="gmail_default" style="font-size: small\; font-family: &quot\;trebuchet ms&quot\;\, sans-serif\; color: rgb(19\, 79\, 92)\;"><span style="color:#000000\;">- Chicken Salads\,<i>&nbsp\;2-3 varieties | gluten-free</i></span></div>\n\n<div class="gmail_default" style="font-size: small\; font-family: &quot\;trebuchet ms&quot\;\, sans-serif\; color: rgb(19\, 79\, 92)\;"><span style="color:#000000\;">- Plant-based Chickpea &quot\;Chicken&quot\; Salad |&nbsp\;<i>vegetarian&nbsp\;+ gluten-free</i></span></div>\n\n<div class="gmail_default" style="font-size: small\; font-family: &quot\;trebuchet ms&quot\;\, sans-serif\; color: rgb(19\, 79\, 92)\;"><span style="color:#000000\;">- Hearty Multi-Bean Salad |&nbsp\;<i>vegan&nbsp\;+ gluten-free</i></span></div>\n\n<div class="gmail_default" style="font-size: small\; font-family: &quot\;trebuchet ms&quot\;\, sans-serif\; color: rgb(19\, 79\, 92)\;"><span style="color:#000000\;">- Salad Greens</span></div>\n\n<div class="gmail_default" style="font-size: small\; font-family: &quot\;trebuchet ms&quot\;\, sans-serif\; color: rgb(19\, 79\, 92)\;"><span style="color:#000000\;">- Mini Croissants&nbsp\;</span></div>\n\n<div class="gmail_default" style="font-size: small\; font-family: &quot\;trebuchet ms&quot\;\, sans-serif\; color: rgb(19\, 79\, 92)\;">&nbsp\;</div>\n\n<div class="gmail_default" style="font-size: small\; font-family: &quot\;trebuchet ms&quot\;\, sans-serif\; color: rgb(19\, 79\, 92)\;"><span style="color:#000000\;"><b>Dessert:&nbsp\;</b></span></div>\n\n<div class="gmail_default" style="font-size: small\; font-family: &quot\;trebuchet ms&quot\;\, sans-serif\; color: rgb(19\, 79\, 92)\;"><span style="color:#000000\;">- Churros w/ variety of dipping sauces |&nbsp\;<i>vegetarian</i></span></div>\n\n<div class="gmail_default" style="font-size: small\; font-family: &quot\;trebuchet ms&quot\;\, sans-serif\; color: rgb(19\, 79\, 92)\;"><span style="color:#000000\;">- Fresh Fruit |<i>&nbsp\;vegan + gluten-free</i></span></div>\n\n<div class="gmail_default" style="font-size: small\; font-family: &quot\;trebuchet ms&quot\;\, sans-serif\; color: rgb(19\, 79\, 92)\;">&nbsp\;</div>\n\n<div class="gmail_default" style="font-size: small\; font-family: &quot\;trebuchet ms&quot\;\, sans-serif\; color: rgb(19\, 79\, 92)\;"><span style="color:#000000\;"><b>Complimentary Beverages:</b></span></div>\n\n<div class="gmail_default" style="font-size: small\; font-family: &quot\;trebuchet ms&quot\;\, sans-serif\; color: rgb(19\, 79\, 92)\;"><span style="color:#000000\;">- House-brewed Tea\,&nbsp\;Lemonade &amp\; Water</span></div>\n
LOCATION:412 Washington Street Columbus\, In 47201
UID:e.1795.5899
SEQUENCE:3
DTSTAMP:20260424T131323Z
URL:https://columbusarea-gzcms.preview.gochambermaster.com/events/details/ambassador-meeting-at-bespoke-events-experiences-5899
END:VEVENT

END:VCALENDAR
